BEGIN:VCALENDAR
VERSION:2.0
PRODID:-//wp-events-plugin.com//7.2.3.1//EN
TZID:Europe/Berlin
X-WR-TIMEZONE:Europe/Berlin
BEGIN:VEVENT
UID:16@heiterbishopfig.de
DTSTART;TZID=Europe/Berlin:20260611T193000
DTEND;TZID=Europe/Berlin:20260611T220000
DTSTAMP:20260422T193634Z
URL:https://heiterbishopfig.de/termine/biertasting-mit-belgischen-bieren-i
 n-mainz-am-11-06-2026/
SUMMARY:Belgische Biere 11.06.2026
DESCRIPTION:Bei dem ca. 2\,5-stündigen Biertasting am 11.06.2026 im Café 
 George lernen wir die Biervielfalt Belgiens kennen und verkosten wir 7 unt
 erschiedliche belgische Bierstile. Wir werden uns auf die Spuren der unter
 schiedlichen Geschmäcker begeben\, etwas über die Historien der Bierstil
 e erfahren\, Hard- und Fun-Facts über Biere abklären\, und die Genusswel
 t der Biere bewandeln.\nDas Tasting richtet sich an alle Bierinteressierte
  ab 18 Jahren. Im Biertasting inbegriffen sind alle Bierproben\, die Bierp
 räsentation\, sowie Wasser und Brot zum Neutralisieren.\nDie Veranstaltun
 g kostet 39 Euro pro Person.\n\nWichtig: Die Veranstaltung findet bei eine
 r Mindestteilnehmerzahl von 6 Leuten statt. Eine Anmeldung ist unbedingt e
 rforderlich. Bitte dazu das Anmeldungsformular ausfüllen und die Anzahl d
 er gewünschten Tickets angeben. Danach ist euer Ticket reserviert und ihr
  erhaltet eine Email mit den Zahlungsinformationen. Eine Bezahlung ist gru
 ndsätzlich per Überweisung oder PayPal möglich. Reservierte\, aber nich
 t innerhalb von 5 Tagen bezahlte Tickets\, gehen dann wieder zurück in de
 n Verkauf.  Sollte die Veranstaltung unvorhergesehener Weise von meiner S
 eite aus abgesagt werden müssen\, erhaltet ihr die Zahlung zurück.
ATTACH;FMTTYPE=image/jpeg:https://heiterbishopfig.de/wp-content/uploads/20
 26/04/Belg-Biere-Tasting_small.jpg
CATEGORIES:Biertasting
LOCATION:Café George\, Frauenlobstrasse 51\, 55118 Mainz (Neustadt)\, Deut
 schland
X-APPLE-STRUCTURED-LOCATION;VALUE=URI;X-ADDRESS=Frauenlobstrasse 51\, 55118
  Mainz (Neustadt)\, Deutschland;X-APPLE-RADIUS=100;X-TITLE=Café George:ge
 o:0,0
END:VEVENT
BEGIN:VTIMEZONE
TZID:Europe/Berlin
X-LIC-LOCATION:Europe/Berlin
BEGIN:DAYLIGHT
DTSTART:20260329T030000
TZOFFSETFROM:+0100
TZOFFSETTO:+0200
TZNAME:CEST
END:DAYLIGHT
END:VTIMEZONE
END:VCALENDAR