BEGIN:VCALENDAR
VERSION:2.0
PRODID:-//wp-events-plugin.com//7.2.3.1//EN
TZID:Europe/Berlin
X-WR-TIMEZONE:Europe/Berlin
BEGIN:VEVENT
UID:17@heiterbishopfig.de
DTSTART;TZID=Europe/Berlin:20260716T193000
DTEND;TZID=Europe/Berlin:20260716T220000
DTSTAMP:20260422T200555Z
URL:https://heiterbishopfig.de/termine/biertasting-mit-passender-musik-zum
 -bier-in-mainz-am-16-07-2026/
SUMMARY:Biertasting Bier trifft Musik 16.07.2026
DESCRIPTION:Passende Musik zu jeder Stimmung\, passende Stimmung zum Bier -
  Also passendes Bier zu jeder Musik.\nWir probieren in diesem ca. 2\,5-st
 ündigen Biertasting die Biere zum passendem Soundtrack oder haben wir den
  passenden Soundtrack zum Bier?! Erfahre über die verschiedenen Bierstile
 \, verkoste Biere jenseits des Massengeschmacks und kreire deinen eigenen 
 Soundtrack zum Bier. Sei Teil eines spannenden und ganz bestimmt lustigen\
 , interaktiven und bierigen Abend.\nVerkostet werden 6 unterschiedliche Bi
 ere\, dazu gibt es Wasser und Brot zum Neutralisieren und ein paar Knabber
 eien.\nDie Veranstaltung kostet 39 Euro pro Person.\n\nWichtig: Die Verans
 taltung findet bei einer Mindestteilnehmerzahl von 6 Personen statt.Eine A
 nmeldung ist unbedingt erforderlich. Bitte dazu das Anmeldungsformular aus
 füllen und die Anzahl der gewünschten Tickets angeben. Danach ist euer T
 icket reserviert und ihr erhaltet eine Email mit den Zahlungsinformationen
 . Eine Bezahlung ist grundsätzlich per Überweisung oder PayPal möglich.
  Reservierte\, aber nicht innerhalb von 5 Tagen bezahlte Tickets\, gehen d
 ann wieder zurück in den Verkauf.  Sollte die Veranstaltung unvorhergese
 hener Weise von meiner Seite aus abgesagt werden müssen\, erhaltet ihr di
 e Zahlung zurück.
ATTACH;FMTTYPE=image/jpeg:https://heiterbishopfig.de/wp-content/uploads/20
 26/04/Musik-Bier-small.jpg
CATEGORIES:Biertasting
LOCATION:Café George\, Frauenlobstrasse 51\, 55118 Mainz (Neustadt)\, Deut
 schland
X-APPLE-STRUCTURED-LOCATION;VALUE=URI;X-ADDRESS=Frauenlobstrasse 51\, 55118
  Mainz (Neustadt)\, Deutschland;X-APPLE-RADIUS=100;X-TITLE=Café George:ge
 o:0,0
END:VEVENT
BEGIN:VTIMEZONE
TZID:Europe/Berlin
X-LIC-LOCATION:Europe/Berlin
BEGIN:DAYLIGHT
DTSTART:20260329T030000
TZOFFSETFROM:+0100
TZOFFSETTO:+0200
TZNAME:CEST
END:DAYLIGHT
END:VTIMEZONE
END:VCALENDAR